Workbook

Sheet DANE
B2: Imię: | H2: =$D$2&" "&$D$3 | J2: =$D$5&", "&$D$6&" "&$D$4 -> ,
B3: Nazwisko: | H3: =$D$7 -> 0
B4: Miejscowość: | H4: =$D$8 -> 0 | J4: =$D$9 -> 0
B5: Adres: | H5: =$B$12 -> 0
B6: Kod pocztowy:
B7: Telefon | H7: SPOSÓB LICZENIA | Q7: RODZAJ KAPSLI
B8: Adres e-mail: | H8: WG MIEJSCA WARZENIA | I8: WG KATALOGU | J8: BEZ PODZIAŁU | K8: SYGNATURY | L8: ODWROTKI | M8: CYFRY | N8: PRZESUNIĘCIA | O8: ODMIANY | P8: LICENCJE | Q8: BUTELKOWANE | R8: NIEBUTELKOWANE | S8: WSZYSTKIE
B9: Adres www: | H9: =IF($B$16=J15,"TAK",0) -> 0 | I9: =IF($B$16=J16,"TAK",0) -> 0 | J9: =IF($B$16=J17,"TAK",0) -> 0 | K9: =IF($B$19=$H$15,"TAK","NIE") -> NIE | L9: =IF($B$22=$H$15,"TAK","NIE") -> NIE | M9: =IF($B$25=$H$15,"TAK","NIE") -> NIE | N9: =IF($B$28=$H$15,"TAK","NIE") -> NIE | O9: =IF($B$31=$H$15,"TAK","NIE") -> NIE | P9: =IF($B$34=$H$15,"TAK","NIE") -> NIE | Q9: =IF($B$37=$I$15,"TAK",0) -> 0 | R9: =IF($B$37=$I$16,"TAK",0) -> 0 | S9: =IF($B$37=$I$17,"TAK",0) -> 0
B11: Co zbierasz (któtki opis):
B15: 1. Jak zliczasz kapsle polskie? | H15: TAK | I15: Butelkowane | J15: WG MIEJSCA WARZENIA
H16: NIE | I16: Niebutelkowane | J16: WG KATALOGU
I17: Butelkowane i niebutelkowane | J17: BEZ PODZIAŁU
B18: 2. Czy zbierasz kapsle uwzględniając sygnatury?
B21: 3. Czy uwzględniasz tzw. "odwrotki", czyli kapsle z różnymi nadrukami na spodzie kapsla lub bez nich (np. promocyjne, Br. Stu Mostów, Profesja)?
B24: 4. Czy uwzględniasz jako różne, kapsle z tą samą sygnaturą bez dodrukowanej cyfry i z dodrukowaną cyfrą na ząbkach?
B27: 5. Czy uwzględniasz jako różne, kapsle z tą samą sygnaturą i z cyfrą, ale nadrukowanymi w różnych miejscach patrząc w/g tarczy zegara?
B30: 6. Czy uwzględniasz tzw. odmiany, czyli kapsle różniące się odcieniami tego samego koloru, spowodowane działaniem czynników zewnętrznych lub błędem drukarskim?
B33: 7. Czy uwzględniasz jako polskie, kapsle zagranicznych marek piw produkowanych w Polsce na licencji lub pod nadzorem browarów zagranicznych (np. Carlsberg, Heineken, Kozel, Pabst)?
B36: 8. Jakie kapsle zbierasz?

Sheet POLSKA
A2: ILOŚĆ POLSKICH KAPSLI W KOLEKCJI (stan na 31.12.2019) | B2: POLSKIE KAPSLE PRZED 1945
A3: Lp | B3: BROWAR | C3: Ogółem | D3: Odwrotki | E3: Dziewice
A4: 1. | B4: Bydgoszcz Bydgoski
A5: 2. | B5: Bydgoszcz Myślęcinek
A6: 3. | B6: Brzesko
A7: 4. | B7: Ciechanów
A8: 5. | B8: Grodzisk Wielkopolski
A9: 6. | B9: Kobylepole
A10: 7. | B10: Lublin
A11: 8. | B11: Lwów
A12: 9. | B12: Namysłów
A13: 10. | B13: Pszonka
A14: 11. | B14: Rozdół
A15: 12. | B15: Skierniewice
... A21: 18. | B21: Wyszków
B22: Razem | C22: =SUM(C4:C21) -> 0 | E22: =SUM(E4:E21) -> 0
A24: ILOŚĆ POLSKICH KAPSLI W KOLEKCJI (stan na 31.12.2019) | B24: KAPSLE POLSKIE PO 1945
A26: Lp | B26: BROWAR | C26: Ogółem | D26: Odwrotki | E26: Dziewice
A27: 1. | B27: Annopole (Gzub) | I27: =AND(DANE!$B$22="TAK",D27<=$C27) -> FALSE | J27: =AND(OR(DANE!$B$37="niebutelkowane",DANE!$B$37="butelkowane i niebutelkowane"),E27<=$C27) -> FALSE
A28: 2. | B28: Antonowo | I28: =AND(DANE!$B$22="TAK",D28<=$C28) -> FALSE | J28: =AND(OR(DANE!$B$37="niebutelkowane",DANE!$B$37="butelkowane i niebutelkowane"),E28<=$C28) -> FALSE
A29: 3. | B29: Barczewo | I29: =AND(DANE!$B$22="TAK",D29<=$C29) -> FALSE | J29: =AND(OR(DANE!$B$37="niebutelkowane",DANE!$B$37="butelkowane i niebutelkowane"),E29<=$C29) -> FALSE
A30: 4. | B30: Bednary | I30: =AND(DANE!$B$22="TAK",D30<=$C30) -> FALSE | J30: =AND(OR(DANE!$B$37="niebutelkowane",DANE!$B$37="butelkowane i niebutelkowane"),E30<=$C30) -> FALSE
A31: 5. | B31: Besiekierz Rudny - Salio | I31: =AND(DANE!$B$22="TAK",D31<=$C31) -> FALSE | J31: =AND(OR(DANE!$B$37="niebutelkowane",DANE!$B$37="butelkowane i niebutelkowane"),E31<=$C31) -> FALSE
A32: 6. | B32: Biała Podlaska - Osjann | I32: =AND(DANE!$B$22="TAK",D32<=$C32) -> FALSE | J32: =AND(OR(DANE!$B$37="niebutelkowane",DANE!$B$37="butelkowane i niebutelkowane"),E32<=$C32) -> FALSE
A33: 7. | B33: Białowieża - Przełom | I33: =AND(DANE!$B$22="TAK",D33<=$C33) -> FALSE | J33: =AND(OR(DANE!$B$37="niebutelkowane",DANE!$B$37="butelkowane i niebutelkowane"),E33<=$C33) -> FALSE
A34: 8. | B34: Białystok - Dojlidy | I34: =AND(DANE!$B$22="TAK",D34<=$C34) -> FALSE | J34: =AND(OR(DANE!$B$37="niebutelkowane",DANE!$B$37="butelkowane i niebutelkowane"),E34<=$C34) -> FALSE
A35: 9. | B35: Białystok - Gloger | I35: =AND(DANE!$B$22="TAK",D35<=$C35) -> FALSE | J35: =AND(OR(DANE!$B$37="niebutelkowane",DANE!$B$37="butelkowane i niebutelkowane"),E35<=$C35) -> FALSE
A36: 10. | B36: Bielanka - Podgórz | I36: =AND(DANE!$B$22="TAK",D36<=$C36) -> FALSE | J36: =AND(OR(DANE!$B$37="niebutelkowane",DANE!$B$37="butelkowane i niebutelkowane"),E36<=$C36) -> FALSE
A37: 11. | B37: Bielawa - Wielka Sowa (d. BWN) | I37: =AND(DANE!$B$22="TAK",D37<=$C37) -> FALSE | J37: =AND(OR(DANE!$B$37="niebutelkowane",DANE!$B$37="butelkowane i niebutelkowane"),E37<=$C37) -> FALSE
A38: 12. | B38: Bielkówko | I38: =AND(DANE!$B$22="TAK",D38<=$C38) -> FALSE | J38: =AND(OR(DANE!$B$37="niebutelkowane",DANE!$B$37="butelkowane i niebutelkowane"),E38<=$C38) -> FALSE
... A245: 219. | B245: POLSKIE PIWO | I245: =AND(DANE!$B$22="TAK",D245<=$C245) -> FALSE | J245: =AND(OR(DANE!$B$37="niebutelkowane",DANE!$B$37="butelkowane i niebutelkowane"),E245<=$C245) -> FALSE
A246: 220. | B246: Browary kontraktowe | H246: =AND(DANE!$B$16="wg katalogu",C246>=D246,C246>=E246) -> FALSE | I246: =AND(DANE!$B$16="wg katalogu",DANE!$B$22="TAK",D246<=C246) -> FALSE | J246: =AND(OR((AND(DANE!$B$16="wg katalogu",DANE!$B$37="niebutelkowane")),(AND(DANE!$B$16="wg katalogu",DANE!$B$37="butelkowane i niebutelkowane"))),E246<=C246) -> FALSE
A247: 221. | B247: Rozlewnie
A248: 222. | B248: Kapsle marek zagranicznych warzonych na licencji | H248: =AND(DANE!$B$16="wg katalogu",DANE!$B$34="TAK") -> FALSE | I248: =AND(DANE!$B$16="wg katalogu",DANE!$B$22="TAK",D248<=C248) -> FALSE | J248: =AND(OR((AND(DANE!$B$16="wg katalogu",DANE!$B$37="niebutelkowane")),(AND(DANE!$B$16="wg katalogu",DANE!$B$37="butelkowane i niebutelkowane"))),E248<=C248) -> FALSE
A249: 223. | B249: Kapsle marek produkowanych na zlecenie | H249: =AND(DANE!$B$16="wg katalogu",DANE!$B$34="TAK") -> FALSE | I249: =AND(DANE!$B$16="wg katalogu",DANE!$B$22="TAK",D249<=C249) -> FALSE | J249: =AND(OR((AND(DANE!$B$16="wg katalogu",DANE!$B$37="niebutelkowane")),(AND(DANE!$B$16="wg katalogu",DANE!$B$37="butelkowane i niebutelkowane"))),E249<=C249) -> FALSE
A250: 224. | B250: Niezidentyfikowane | J250: =AND(OR(DANE!$B$37="niebutelkowane",DANE!$B$37="butelkowane i niebutelkowane"),E250<=C250) -> FALSE
B251: Razem | C251: =SUM(C27:C250) -> 0 | D251: =SUM(D27:D250) -> 0 | E251: =SUM(E27:E250) -> 0
B252: Razem kapsle przed i po 1945 | C252: =C22+C251 -> 0 | D252: =D22+D251 -> 0 | E252: =E22+E251 -> 0
A254: Lp | C254: Ogółem | D254: Odwrotki | E254: Dziewice
B255: Polskie kapsle piwne bez podziału | I255: =AND(DANE!$B$16="bez podziału",DANE!$B$22="TAK",D255<=C255) -> FALSE | J255: =AND(OR((AND(DANE!$B$16="bez podziału",DANE!$B$37="niebutelkowane")),(AND(DANE!$B$16="bez podziału",DANE!$B$37="Butelkowane i niebutelkowane"))),E255<=C255) -> FALSE
B257: Polskie kapsle niepiwne bez podziału | I257: =AND(DANE!$B$22="TAK",D257<=C257) -> FALSE | J257: =AND(OR((AND(DANE!$B$16="bez podziału",DANE!$B$37="niebutelkowane")),(AND(DANE!$B$16="bez podziału",DANE!$B$37="Butelkowane i niebutelkowane"))),E257<=C257) -> FALSE
B259: KAPSLE POLSKIE POZA ANKIETĄ
B261: Browary domowe | J261: =AND(OR((AND(DANE!$B$16="bez podziału",DANE!$B$37="niebutelkowane")),(AND(DANE!$B$16="bez podziału",DANE!$B$37="Butelkowane i niebutelkowane"))),E261<=C261) -> FALSE
B262: Kapsle giełdowe | J262: =AND(OR((AND(DANE!$B$16="bez podziału",DANE!$B$37="niebutelkowane")),(AND(DANE!$B$16="bez podziału",DANE!$B$37="Butelkowane i niebutelkowane"))),E262<=C262) -> FALSE
B263: Kapsle okolicznościowe | J263: =AND(OR((AND(DANE!$B$16="bez podziału",DANE!$B$37="niebutelkowane")),(AND(DANE!$B$16="bez podziału",DANE!$B$37="Butelkowane i niebutelkowane"))),E263<=C263) -> FALSE
B264: Kapsle kolekcjonerskie | J264: =AND(OR((AND(DANE!$B$16="bez podziału",DANE!$B$37="niebutelkowane")),(AND(DANE!$B$16="bez podziału",DANE!$B$37="Butelkowane i niebutelkowane"))),E264<=C264) -> FALSE
B265: Repliki | J265: =AND(OR((AND(DANE!$B$16="bez podziału",DANE!$B$37="niebutelkowane")),(AND(DANE!$B$16="bez podziału",DANE!$B$37="Butelkowane i niebutelkowane"))),E265<=C265) -> FALSE
B266: Nadruki laserowe | J266: =AND(OR((AND(DANE!$B$16="bez podziału",DANE!$B$37="niebutelkowane")),(AND(DANE!$B$16="bez podziału",DANE!$B$37="Butelkowane i niebutelkowane"))),E266<=C266) -> FALSE
B267: Kapsle reklamowe | J267: =AND(OR((AND(DANE!$B$16="bez podziału",DANE!$B$37="niebutelkowane")),(AND(DANE!$B$16="bez podziału",DANE!$B$37="Butelkowane i niebutelkowane"))),E267<=C267) -> FALSE
B268: Razem | C268: =SUM(C261:C267) -> 0 | E268: =SUM(E261:E267) -> 0
B270: Serie
B271: Serie Konstancin 2007 | J271: =AND(OR((AND(DANE!$B$16="bez podziału",DANE!$B$37="niebutelkowane")),(AND(DANE!$B$16="bez podziału",DANE!$B$37="Butelkowane i niebutelkowane"))),E271<=C271) -> FALSE
B272: Serie Kormoran 2009 | J272: =AND(OR((AND(DANE!$B$16="bez podziału",DANE!$B$37="niebutelkowane")),(AND(DANE!$B$16="bez podziału",DANE!$B$37="Butelkowane i niebutelkowane"))),E272<=C272) -> FALSE
B273: Serie Kormoran 2012 | J273: =AND(OR((AND(DANE!$B$16="bez podziału",DANE!$B$37="niebutelkowane")),(AND(DANE!$B$16="bez podziału",DANE!$B$37="Butelkowane i niebutelkowane"))),E273<=C273) -> FALSE
B274: Serie reklamowe Can-Pack | J274: =AND(OR((AND(DANE!$B$16="bez podziału",DANE!$B$37="niebutelkowane")),(AND(DANE!$B$16="bez podziału",DANE!$B$37="Butelkowane i niebutelkowane"))),E274<=C274) -> FALSE
B275: Serie Beer Concept Kraków | J275: =AND(OR((AND(DANE!$B$16="bez podziału",DANE!$B$37="niebutelkowane")),(AND(DANE!$B$16="bez podziału",DANE!$B$37="Butelkowane i niebutelkowane"))),E275<=C275) -> FALSE
B276: WES Wolsztyn | J276: =AND(OR((AND(DANE!$B$16="bez podziału",DANE!$B$37="niebutelkowane")),(AND(DANE!$B$16="bez podziału",DANE!$B$37="Butelkowane i niebutelkowane"))),E276<=C276) -> FALSE
B277: Serie inne | J277: =AND(OR((AND(DANE!$B$16="bez podziału",DANE!$B$37="niebutelkowane")),(AND(DANE!$B$16="bez podziału",DANE!$B$37="Butelkowane i niebutelkowane"))),E277<=C277) -> FALSE
B278: Razem | C278: =SUM(C271:C277) -> 0 | E278: =SUM(E271:E277) -> 0
B280: Kody 4-znakowe
B281: Carlsberg | J281: =AND(OR((AND(DANE!$B$16="bez podziału",DANE!$B$37="niebutelkowane")),(AND(DANE!$B$16="bez podziału",DANE!$B$37="Butelkowane i niebutelkowane"))),E281<=C281) -> FALSE
B282: Brzesko | J282: =AND(OR((AND(DANE!$B$16="bez podziału",DANE!$B$37="niebutelkowane")),(AND(DANE!$B$16="bez podziału",DANE!$B$37="Butelkowane i niebutelkowane"))),E282<=C282) -> FALSE
B283: Sierpc | J283: =AND(OR((AND(DANE!$B$16="bez podziału",DANE!$B$37="niebutelkowane")),(AND(DANE!$B$16="bez podziału",DANE!$B$37="Butelkowane i niebutelkowane"))),E283<=C283) -> FALSE
B284: Szczecin | J284: =AND(OR((AND(DANE!$B$16="bez podziału",DANE!$B$37="niebutelkowane")),(AND(DANE!$B$16="bez podziału",DANE!$B$37="Butelkowane i niebutelkowane"))),E284<=C284) -> FALSE
B285: Wrocław Piast | J285: =AND(OR((AND(DANE!$B$16="bez podziału",DANE!$B$37="niebutelkowane")),(AND(DANE!$B$16="bez podziału",DANE!$B$37="Butelkowane i niebutelkowane"))),E285<=C285) -> FALSE
B286: Bielkówko | J286: =AND(OR((AND(DANE!$B$16="bez podziału",DANE!$B$37="niebutelkowane")),(AND(DANE!$B$16="bez podziału",DANE!$B$37="Butelkowane i niebutelkowane"))),E286<=C286) -> FALSE
B287: Razem | C287: =SUM(C281:C286) -> 0 | E287: =SUM(E281:E286) -> 0
B289: Kody 7-znakowe
B290: Sierpc biały | J290: =AND(OR((AND(DANE!$B$16="bez podziału",DANE!$B$37="niebutelkowane")),(AND(DANE!$B$16="bez podziału",DANE!$B$37="Butelkowane i niebutelkowane"))),E290<=C290) -> FALSE
B291: Sierpc czarny | J291: =AND(OR((AND(DANE!$B$16="bez podziału",DANE!$B$37="niebutelkowane")),(AND(DANE!$B$16="bez podziału",DANE!$B$37="Butelkowane i niebutelkowane"))),E291<=C291) -> FALSE
B292: Sierpc czerwony | J292: =AND(OR((AND(DANE!$B$16="bez podziału",DANE!$B$37="niebutelkowane")),(AND(DANE!$B$16="bez podziału",DANE!$B$37="Butelkowane i niebutelkowane"))),E292<=C292) -> FALSE
B293: Sierpc zielony | J293: =AND(OR((AND(DANE!$B$16="bez podziału",DANE!$B$37="niebutelkowane")),(AND(DANE!$B$16="bez podziału",DANE!$B$37="Butelkowane i niebutelkowane"))),E293<=C293) -> FALSE
B294: Wrocław czarny | J294: =AND(OR((AND(DANE!$B$16="bez podziału",DANE!$B$37="niebutelkowane")),(AND(DANE!$B$16="bez podziału",DANE!$B$37="Butelkowane i niebutelkowane"))),E294<=C294) -> FALSE
B295: Wrocław żółty | J295: =AND(OR((AND(DANE!$B$16="bez podziału",DANE!$B$37="niebutelkowane")),(AND(DANE!$B$16="bez podziału",DANE!$B$37="Butelkowane i niebutelkowane"))),E295<=C295) -> FALSE
B296: Razem | C296: =SUM(C290:C295) -> 0 | E296: =SUM(E290:E295) -> 0
B298: Nakrętki
B299: Nakrętki PET z Polski
B300: Nakrętki PET z zagranicy
B301: Nakrętki z wódki
B302: Razem | C302: =SUM(C299:C301) -> 0

Sheet ZAGRANICA
A1: Lp. | B1: Lp. | C1: Kraj | D1: Piwne | E1: Niepiwne
C2: EUROPA
A3: 1 | B3: 1 | C3: Albania
A4: 2 | B4: 2 | C4: Andora
A5: 3 | B5: 3 | C5: Austria
A6: 4 | B6: 4 | C6: Belgia
A7: 5 | B7: 5 | C7: Białoruś
A8: 6 | B8: 6 | C8: Bośnia i Hercegowina
A9: 7 | B9: 7 | C9: Bułgaria
A10: 8 | B10: 8 | C10: Chorwacja
A11: 9 | B11: 9 | C11: Cypr
A12: 10 | B12: 10 | C12: Cypr Turecki
A13: 11 | B13: 11 | C13: Czarnogóra
A14: 12 | B14: 12 | C14: Czechy
... A53: 51 | B53: 51 | C53: W-y Owcze
C54: Razem | D54: =SUM(D3:D53) -> 0 | E54: =SUM(E3:E53) -> 0
C55: AMERYKI
A56: 1 | B56: 52 | C56: Argentyna
A57: 2 | B57: 53 | C57: Belize
A58: 3 | B58: 54 | C58: Boliwia
A59: 4 | B59: 55 | C59: Brazylia
A60: 5 | B60: 56 | C60: Chile
A61: 6 | B61: 57 | C61: Ekwador
A62: 7 | B62: 58 | C62: Falklandy
A63: 8 | B63: 59 | C63: Grenlandia
A64: 9 | B64: 60 | C64: Gujana
A65: 10 | B65: 61 | C65: Gujana Francuska
A66: 11 | B66: 62 | C66: Gwatemala
A67: 12 | B67: 63 | C67: Honduras
... A80: 25 | B80: 76 | C80: Wenezuela
C81: Razem | D81: =SUM(D56:D80) -> 0 | E81: =SUM(E56:E80) -> 0
C82: AFRYKA
A83: 1 | B83: 77 | C83: Algeria
A84: 2 | B84: 78 | C84: Angola
A85: 3 | B85: 79 | C85: Benin
A86: 4 | B86: 80 | C86: Botswana
A87: 5 | B87: 81 | C87: Burkina Faso
A88: 6 | B88: 82 | C88: Burundi
A89: 7 | B89: 83 | C89: Ceuta
A90: 8 | B90: 84 | C90: Czad
A91: 9 | B91: 85 | C91: Dem. Rep. Konga / Zair
A92: 10 | B92: 86 | C92: Dżibuti
A93: 11 | B93: 87 | C93: Egipt
A94: 12 | B94: 88 | C94: Erytrea
... A139: 57 | B139: 133 | C139: Zimbabwe
C140: Razem | D140: =SUM(D83:D139) -> 0 | E140: =SUM(E83:E139) -> 0
C141: KARAIBY
A142: 1 | B142: 134 | C142: Antigua i Barbuda
A143: 2 | B143: 135 | C143: Aruba
A144: 3 | B144: 136 | C144: Bahamy
A145: 4 | B145: 137 | C145: Barbados
A146: 5 | B146: 138 | C146: Bermudy
A147: 6 | B147: 139 | C147: Curacao
A148: 7 | B148: 140 | C148: Dominika
A149: 8 | B149: 141 | C149: Dominikana
A150: 9 | B150: 142 | C150: Grenada
A151: 10 | B151: 143 | C151: Gwadelupa
A152: 11 | B152: 144 | C152: Haiti
A153: 12 | B153: 145 | C153: Jamajka
... A166: 25 | B166: 158 | C166: W-y Dziewicze (USA)
C167: Razem | D167: =SUM(D142:D166) -> 0 | E167: =SUM(E142:E166) -> 0
C168: AZJA
A169: 1 | B169: 159 | C169: Afganistan
A170: 2 | B170: 160 | C170: Armenia
A171: 3 | B171: 161 | C171: Azerbejdżan
A172: 4 | B172: 162 | C172: Bangladesz
A173: 5 | B173: 163 | C173: Bhutan
A174: 6 | B174: 164 | C174: Birma (Mjanma)
A175: 7 | B175: 165 | C175: Brunei
A176: 8 | B176: 166 | C176: Chiny
A177: 9 | B177: 167 | C177: Filipiny
A178: 10 | B178: 168 | C178: Gruzja
A179: 11 | B179: 169 | C179: Hongkong
A180: 12 | B180: 170 | C180: Indie
... A203: 35 | B203: 193 | C203: Wietnam
C204: Razem | D204: =SUM(D169:D203) -> 0 | E204: =SUM(E169:E203) -> 0
C205: BLISKI WSCHÓD
A206: 1 | B206: 194 | C206: Arabia Saudyjska
A207: 2 | B207: 195 | C207: Autonomia Palestyńska
A208: 3 | B208: 196 | C208: Bahrain
A209: 4 | B209: 197 | C209: Irak
A210: 5 | B210: 198 | C210: Iran
A211: 6 | B211: 199 | C211: Izrael
A212: 7 | B212: 200 | C212: Jemen
A213: 8 | B213: 201 | C213: Jordania
A214: 9 | B214: 202 | C214: Katar
A215: 10 | B215: 203 | C215: Kuwejt
A216: 11 | B216: 204 | C216: Liban
A217: 12 | B217: 205 | C217: Oman
... A220: 15 | B220: 208 | C220: Zjednoczone Emiraty Arabskie
C221: Razem | D221: =SUM(D206:D220) -> 0 | E221: =SUM(E206:E220) -> 0
C222: OCEANIA
A223: 1 | B223: 209 | C223: Australia
A224: 2 | B224: 210 | C224: Fidżi
A225: 3 | B225: 211 | C225: Guam
A226: 4 | B226: 212 | C226: Mariany Północne
A227: 5 | B227: 213 | C227: Nowa Kaledonia
A228: 6 | B228: 214 | C228: Nowa Zelandia
A229: 7 | B229: 215 | C229: Palau
A230: 8 | B230: 216 | C230: Papua Nowa Gwinea
...
