Workbook

Sheet DANE
B2: Imię: | H2: =$D$2&" "&$D$3 | J2: =$D$5&", "&$D$6&" "&$D$4 -> ,
B3: Nazwisko: | H3: =$D$7 -> 0
B4: Miejscowość: | H4: =$D$8 -> 0 | J4: =$D$9 -> 0
B5: Adres: | H5: =$B$12 -> 0
B6: Kod pocztowy:
B7: Telefon | H7: SPOSÓB LICZENIA | Q7: RODZAJ KAPSLI
B8: Adres e-mail: | H8: WG MIEJSCA WARZENIA | I8: WG KATALOGU | J8: BEZ PODZIAŁU | K8: SYGNATURY | L8: ODWROTKI | M8: CYFRY | N8: PRZESUNIĘCIA | O8: ODMIANY | P8: LICENCJE | Q8: BUTELKOWANE | R8: NIEBUTELKOWANE | S8: WSZYSTKIE
B9: Adres www: | H9: =IF($B$16=J15,"TAK",0) -> 0 | I9: =IF($B$16=J16,"TAK",0) -> 0 | J9: =IF($B$16=J17,"TAK",0) -> 0 | K9: =IF($B$19=$H$15,"TAK","NIE") -> NIE | L9: =IF($B$22=$H$15,"TAK","NIE") -> NIE | M9: =IF($B$25=$H$15,"TAK","NIE") -> NIE | N9: =IF($B$28=$H$15,"TAK","NIE") -> NIE | O9: =IF($B$31=$H$15,"TAK","NIE") -> NIE | P9: =IF($B$34=$H$15,"TAK","NIE") -> NIE | Q9: =IF($B$37=$I$15,"TAK",0) -> 0 | R9: =IF($B$37=$I$16,"TAK",0) -> 0 | S9: =IF($B$37=$I$17,"TAK",0) -> 0
B11: Co zbierasz (któtki opis):
B15: 1. Jak zliczasz kapsle polskie? | H15: TAK | I15: Butelkowane | J15: WG MIEJSCA WARZENIA
H16: NIE | I16: Niebutelkowane | J16: WG KATALOGU
I17: Butelkowane i niebutelkowane | J17: BEZ PODZIAŁU
B18: 2. Czy zbierasz kapsle uwzględniając sygnatury?
B21: 3. Czy uwzględniasz tzw. "odwrotki", czyli kapsle z różnymi nadrukami na spodzie kapsla lub bez nich (np. promocyjne, Br. Stu Mostów, Profesja)?
B24: 4. Czy uwzględniasz jako różne, kapsle z tą samą sygnaturą bez dodrukowanej cyfry i z dodrukowaną cyfrą na ząbkach?
B27: 5. Czy uwzględniasz jako różne, kapsle z tą samą sygnaturą i z cyfrą, ale nadrukowanymi w różnych miejscach patrząc w/g tarczy zegara?
B30: 6. Czy uwzględniasz tzw. odmiany, czyli kapsle różniące się odcieniami tego samego koloru, spowodowane działaniem czynników zewnętrznych lub błędem drukarskim?
B33: 7. Czy uwzględniasz jako polskie, kapsle zagranicznych marek piw produkowanych w Polsce na licencji lub pod nadzorem browarów zagranicznych (np. Carlsberg, Heineken, Kozel, Pabst)?
B36: 8. Jakie kapsle zbierasz?

Sheet POLSKA
A2: ILOŚĆ POLSKICH KAPSLI W KOLEKCJI (stan na 31.12.2019) | B2: POLSKIE KAPSLE PRZED 1945
A3: Lp | B3: BROWAR | C3: Ogółem | D3: Odwrotki | E3: Dziewice
A4: 1. | B4: Bydgoszcz Bydgoski
A5: 2. | B5: Bydgoszcz Myślęcinek
A6: 3. | B6: Brzesko
A7: 4. | B7: Ciechanów
A8: 5. | B8: Grodzisk Wielkopolski
A9: 6. | B9: Kobylepole
A10: 7. | B10: Lublin
A11: 8. | B11: Lwów
A12: 9. | B12: Namysłów
A13: 10. | B13: Pszonka
A14: 11. | B14: Rozdół
A15: 12. | B15: Skierniewice
... A21: 18. | B21: Wyszków
B22: Razem | C22: =SUM(C4:C21) -> 0 | E22: =SUM(E4:E21) -> 0
A24: ILOŚĆ POLSKICH KAPSLI W KOLEKCJI (stan na 31.12.2019) | B24: KAPSLE POLSKIE PO 1945
A26: Lp | B26: BROWAR | C26: Ogółem | D26: Odwrotki | E26: Dziewice
A27: 1. | B27: Annopole (Gzub) | I27: =AND(DANE!$B$22="TAK",D27<=$C27) -> FALSE | J27: =AND(OR(DANE!$B$37="niebutelkowane",DANE!$B$37="butelkowane i niebutelkowane"),E27<=$C27) -> FALSE
A28: 2. | B28: Antonowo | I28: =AND(DANE!$B$22="TAK",D28<=$C28) -> FALSE | J28: =AND(OR(DANE!$B$37="niebutelkowane",DANE!$B$37="butelkowane i niebutelkowane"),E28<=$C28) -> FALSE
A29: 3. | B29: Barczewo | I29: =AND(DANE!$B$22="TAK",D29<=$C29) -> FALSE | J29: =AND(OR(DANE!$B$37="niebutelkowane",DANE!$B$37="butelkowane i niebutelkowane"),E29<=$C29) -> FALSE
A30: 4. | B30: Bednary | I30: =AND(DANE!$B$22="TAK",D30<=$C30) -> FALSE | J30: =AND(OR(DANE!$B$37="niebutelkowane",DANE!$B$37="butelkowane i niebutelkowane"),E30<=$C30) -> FALSE
A31: 5. | B31: Besiekierz Rudny - Salio | I31: =AND(DANE!$B$22="TAK",D31<=$C31) -> FALSE | J31: =AND(OR(DANE!$B$37="niebutelkowane",DANE!$B$37="butelkowane i niebutelkowane"),E31<=$C31) -> FALSE
A32: 6. | B32: Biała Podlaska - Osjann | I32: =AND(DANE!$B$22="TAK",D32<=$C32) -> FALSE | J32: =AND(OR(DANE!$B$37="niebutelkowane",DANE!$B$37="butelkowane i niebutelkowane"),E32<=$C32) -> FALSE
A33: 7. | B33: Białowieża - Przełom | I33: =AND(DANE!$B$22="TAK",D33<=$C33) -> FALSE | J33: =AND(OR(DANE!$B$37="niebutelkowane",DANE!$B$37="butelkowane i niebutelkowane"),E33<=$C33) -> FALSE
A34: 8. | B34: Białystok - Dojlidy | I34: =AND(DANE!$B$22="TAK",D34<=$C34) -> FALSE | J34: =AND(OR(DANE!$B$37="niebutelkowane",DANE!$B$37="butelkowane i niebutelkowane"),E34<=$C34) -> FALSE
A35: 9. | B35: Białystok - Gloger | I35: =AND(DANE!$B$22="TAK",D35<=$C35) -> FALSE | J35: =AND(OR(DANE!$B$37="niebutelkowane",DANE!$B$37="butelkowane i niebutelkowane"),E35<=$C35) -> FALSE
A36: 10. | B36: Bielanka - Podgórz | I36: =AND(DANE!$B$22="TAK",D36<=$C36) -> FALSE | J36: =AND(OR(DANE!$B$37="niebutelkowane",DANE!$B$37="butelkowane i niebutelkowane"),E36<=$C36) -> FALSE
A37: 11. | B37: Bielawa - Wielka Sowa (d. BWN) | I37: =AND(DANE!$B$22="TAK",D37<=$C37) -> FALSE | J37: =AND(OR(DANE!$B$37="niebutelkowane",DANE!$B$37="butelkowane i niebutelkowane"),E37<=$C37) -> FALSE
A38: 12. | B38: Bielkówko | I38: =AND(DANE!$B$22="TAK",D38<=$C38) -> FALSE | J38: =AND(OR(DANE!$B$37="niebutelkowane",DANE!$B$37="butelkowane i niebutelkowane"),E38<=$C38) -> FALSE
... A245: 219. | B245: POLSKIE PIWO | I245: =AND(DANE!$B$22="TAK",D245<=$C245) -> FALSE | J245: =AND(OR(DANE!$B$37="niebutelkowane",DANE!$B$37="butelkowane i niebutelkowane"),E245<=$C245) -> FALSE
A246: 220. | B246: Browary kontraktowe | H246: =AND(DANE!$B$16="wg katalogu",C246>=D246,C246>=E246) -> FALSE | I246: =AND(DANE!$B$16="wg katalogu",DANE!$B$22="TAK",D246<=C246) -> FALSE | J246: =AND(OR((AND(DANE!$B$16="wg katalogu",DANE!$B$37="niebutelkowane")),(AND(DANE!$B$16="wg katalogu",DANE!$B$37="butelkowane i niebutelkowane"))),E246<=C246) -> FALSE
A247: 221. | B247: Rozlewnie
A248: 222. | B248: Kapsle marek zagranicznych warzonych na licencji | H248: =AND(DANE!$B$16="wg katalogu",DANE!$B$34="TAK") -> FALSE | I248: =AND(DANE!$B$16="wg katalogu",DANE!$B$22="TAK",D248<=C248) -> FALSE | J248: =AND(OR((AND(DANE!$B$16="wg katalogu",DANE!$B$37="niebutelkowane")),(AND(DANE!$B$16="wg katalogu",DANE!$B$37="butelkowane i niebutelkowane"))),E248<=C248) -> FALSE
A249: 223. | B249: Kapsle marek produkowanych na zlecenie | H249: =AND(DANE!$B$16="wg katalogu",DANE!$B$34="TAK") -> FALSE | I249: =AND(DANE!$B$16="wg katalogu",DANE!$B$22="TAK",D249<=C249) -> FALSE | J249: =AND(OR((AND(DANE!$B$16="wg katalogu",DANE!$B$37="niebutelkowane")),(AND(DANE!$B$16="wg katalogu",DANE!$B$37="butelkowane i niebutelkowane"))),E249<=C249) -> FALSE
A250: 224. | B250: Niezidentyfikowane | J250: =AND(OR(DANE!$B$37="niebutelkowane",DANE!$B$37="butelkowane i niebutelkowane"),E250<=C250) -> FALSE
B251: Razem | C251: =SUM(C27:C250) -> 0 | D251: =SUM(D27:D250) -> 0 | E251: =SUM(E27:E250) -> 0
B252: Razem kapsle przed i po 1945 | C252: =C22+C251 -> 0 | D252: =D22+D251 -> 0 | E252: =E22+E251 -> 0
A254: Lp | C254: Ogółem | D254: Odwrotki | E254: Dziewice
B255: Polskie kapsle piwne bez podziału | I255: =AND(DANE!$B$16="bez podziału",DANE!$B$22="TAK",D255<=C255) -> FALSE | J255: =AND(OR((AND(DANE!$B$16="bez podziału",DANE!$B$37="niebutelkowane")),(AND(DANE!$B$16="bez podziału",DANE!$B$37="Butelkowane i niebutelkowane"))),E255<=C255) -> FALSE
...

Sheet ZAGRANICA
A1: Lp. | B1: Lp. | C1: Kraj | D1: Piwne | E1: Niepiwne
C2: EUROPA
A3: 1 | B3: 1 | C3: Albania
A4: 2 | B4: 2 | C4: Andora
A5: 3 | B5: 3 | C5: Austria
A6: 4 | B6: 4 | C6: Belgia
A7: 5 | B7: 5 | C7: Białoruś
A8: 6 | B8: 6 | C8: Bośnia i Hercegowina
A9: 7 | B9: 7 | C9: Bułgaria
A10: 8 | B10: 8 | C10: Chorwacja
A11: 9 | B11: 9 | C11: Cypr
A12: 10 | B12: 10 | C12: Cypr Turecki
A13: 11 | B13: 11 | C13: Czarnogóra
A14: 12 | B14: 12 | C14: Czechy
... A53: 51 | B53: 51 | C53: W-y Owcze
C54: Razem | D54: =SUM(D3:D53) -> 0 | E54: =SUM(E3:E53) -> 0
C55: AMERYKI
A56: 1 | B56: 52 | C56: Argentyna
A57: 2 | B57: 53 | C57: Belize
A58: 3 | B58: 54 | C58: Boliwia
A59: 4 | B59: 55 | C59: Brazylia
A60: 5 | B60: 56 | C60: Chile
A61: 6 | B61: 57 | C61: Ekwador
A62: 7 | B62: 58 | C62: Falklandy
A63: 8 | B63: 59 | C63: Grenlandia
A64: 9 | B64: 60 | C64: Gujana
A65: 10 | B65: 61 | C65: Gujana Francuska
A66: 11 | B66: 62 | C66: Gwatemala
A67: 12 | B67: 63 | C67: Honduras
... A80: 25 | B80: 76 | C80: Wenezuela
C81: Razem | D81: =SUM(D56:D80) -> 0 | E81: =SUM(E56:E80) -> 0
C82: AFRYKA
A83: 1 | B83: 77 | C83: Algeria
A84: 2 | B84: 78 | C84: Angola
A85: 3 | B85: 79 | C85: Benin
A86: 4 | B86: 80 | C86: Botswana
A87: 5 | B87: 81 | C87: Burkina Faso
A88: 6 | B88: 82 | C88: Burundi
A89: 7 | B89: 83 | C89: Ceuta
A90: 8 | B90: 84 | C90: Czad
...
